BEGIN:VCALENDAR
VERSION:2.0
PRODID:-//Euryece Consulting - ECPv6.14.2//NONSGML v1.0//EN
CALSCALE:GREGORIAN
METHOD:PUBLISH
X-WR-CALNAME:Euryece Consulting
X-ORIGINAL-URL:https://www.euryece-consulting.fr
X-WR-CALDESC:Évènements pour Euryece Consulting
REFRESH-INTERVAL;VALUE=DURATION:PT1H
X-Robots-Tag:noindex
X-PUBLISHED-TTL:PT1H
BEGIN:VTIMEZONE
TZID:Europe/Paris
BEGIN:DAYLIGHT
TZOFFSETFROM:+0100
TZOFFSETTO:+0200
TZNAME:CEST
DTSTART:20260329T010000
END:DAYLIGHT
BEGIN:STANDARD
TZOFFSETFROM:+0200
TZOFFSETTO:+0100
TZNAME:CET
DTSTART:20261025T010000
END:STANDARD
END:VTIMEZONE
BEGIN:VEVENT
DTSTART;TZID=Europe/Paris:20260416T083000
DTEND;TZID=Europe/Paris:20260417T170000
DTSTAMP:20260421T111042
CREATED:20251022T093955Z
LAST-MODIFIED:20251121T074316Z
UID:6248-1776328200-1776445200@www.euryece-consulting.fr
SUMMARY:Dirigeant\, offrez une vision à votre entreprise et du sens à vos collaborateurs. ​
DESCRIPTION:Public visé :Dirigeant toute taille d’entreprise (ou d’organisation) \n\n\n\nPré requis :Pas de pré requis \n\n\n\nObjectif(s) pédagogique (s)A l’issue du séminaire\, vous serez en mesure \n\n\n\n\nDe différencier Vision et stratégie \n\n\n\nDe communiquer clairement sur votre vision\n\n\n\nDe partager un parcours prévisionnel stratégique opérationnel \n\n\n\nD’identifier votre profil de Dirigeant\, vos motivations réelles\n\n\n\n\nMesure des acquisChaque dirigeant repart avec son carnet personnel pour une mise en oeuvre immédiate et évolutive. \n\n\n\nL’animation Form’Action permet à chaque Dirigeant d’utiliser l’intelligence collective du groupe pour enrichir sa réflexion et intégrer ses intuitions. \n\n\n\nDurée et modalité d’organisation :2 jours consécutifs immersifs \n\n\n\n1 Séance de Codéveloppement professionnel avec le groupe sur le thème de la vision et le sens dans les organisations. \n\n\n\n3 séances individuelles de coaching professionnel parmis les Coach Euryèce Consulting. \n\n\n\nNombre de personnes par groupe : Min : 5 – max : 8 personnes \n\n\n\nAnimé part : Jérôme Courjault\, Delphine Faroult. Chaque membre de Euryèce Consulting peut intervenir (en fonction de la typologie et des attentes du groupe)    \n\n\n\nLieux : Toute la FranceSessions permanentes : Paris et Tours \n\n\n\nChaque stagiaire intègre la communauté des dirigeants de Euryèce Consulting pour revenir sur des sujets de la formation\,  des partages d’idées\, de pratiques entre pairs.
URL:https://www.euryece-consulting.fr/events/dirigeant-offrez-une-vision-a-votre-entreprise-et-du-sens-a-vos-collaborateurs-2/
ATTACH;FMTTYPE=image/png:https://www.euryece-consulting.fr/wp-content/uploads/2025/10/Event-1.png
END:VEVENT
BEGIN:VEVENT
DTSTART;TZID=Europe/Paris:20260417T113000
DTEND;TZID=Europe/Paris:20260417T123000
DTSTAMP:20260421T111042
CREATED:20251020T103243Z
LAST-MODIFIED:20251020T103243Z
UID:6156-1776425400-1776429000@www.euryece-consulting.fr
SUMMARY:Kfé Virtuel - Codéveloppement Professionnel
DESCRIPTION:Vous avez été ou souhaitez devenir stagiaire à l’une des sessions de notre formation « Devenez Facilitateur en Codéveloppement professionnel »\, retrouvez votre formatrice : \n\n\n\n\nun échange de bonnes pratiques\, \n\n\n\napporter vos questions\, \n\n\n\nrevenir sur les apprentissages de votre formation.     \n\n\n\n\nLes Kfés virtuels sont gratuits sur inscription.
URL:https://www.euryece-consulting.fr/events/kfe-virtuel-codeveloppement-professionnel/
ATTACH;FMTTYPE=image/jpeg:https://www.euryece-consulting.fr/wp-content/uploads/2025/10/kfe-Delph-scaled.jpg
END:VEVENT
END:VCALENDAR